BEGIN:VCALENDAR
VERSION:2.0
PRODID:-//TYPO3/NONSGML News system (news)//EN
CALSCALE:GREGORIAN
METHOD:PUBLISH
BEGIN:VEVENT
UID:news-109777@gemeinde-poggersdorf.at

DTSTAMP:20260420T101747Z



DTSTART;TZID=Europe/Vienna:20261224T080000
DTEND;TZID=Europe/Vienna:20261224T120000

SUMMARY:Friedenslichtaktion
DESCRIPTION:Feuerwehrhaus 

LOCATION:Feuerwehrhaus


END:VEVENT
END:VCALENDAR
