BEGIN:VCALENDAR
VERSION:2.0
PRODID:-//TYPO3/NONSGML News system (news)//EN
CALSCALE:GREGORIAN
METHOD:PUBLISH
BEGIN:VEVENT
UID:news-110234@gemeinde-poggersdorf.at

DTSTAMP:20260420T101141Z



DTSTART;TZID=Europe/Vienna:20260521T183000
DTEND;TZID=Europe/Vienna:20260521T000000

SUMMARY:Versorgt vor Ort - PlötzlICH Pflegekraft III - &quot;Stressfrei Pflegen&quot;
DESCRIPTION:Die Betreuung von Pflegebedürftigen erfordert nicht nur physische Anstrengungen, sondern kann auch emotional sehr herausfordernd sein. Die Balance zwischen der Fürsorge für andere und der eigenen Gesundheit kann oft schwierig sein. Bei dieser Veranstaltung erhalten sie wertvolle Tipps und effektive Techniken, um den persönlichen Stress zu managen und das eigne Wohlbefinden zu steigern. Die TeilnehmerInnen werden lernen, wie sie für sich selbst sorgen können, ohne dabei die Bedürfnisse ihrer pflegebedürftigen Liebsten zu vernachlässigen. Die Veranstaltung bietet eine einzigartige Gelegenheit zum Austausch und zur Vernetzung mit anderen pflegenden Angehörigen, die ähnliche Herausforderungen bewältigen müssen. 
Referentin: Julia Lach-Scheiflinger

LOCATION:Pfarrsaal Poggersdorf 


END:VEVENT
END:VCALENDAR
