BEGIN:VCALENDAR
VERSION:2.0
PRODID:-//TYPO3/NONSGML News system (news)//EN
CALSCALE:GREGORIAN
METHOD:PUBLISH
BEGIN:VEVENT
UID:news-109750@gemeinde-poggersdorf.at

DTSTAMP:20260422T101751Z



DTSTART;TZID=Europe/Vienna:20261017T160000
DTEND;TZID=Europe/Vienna:20261017T000000

SUMMARY:Sturm und Maroni
DESCRIPTION:Dorfgemeinschaft Eiersdorf-Wabelsdorf 

LOCATION:Kulturhalle Wabelsdorf 


END:VEVENT
END:VCALENDAR
