BEGIN:VCALENDAR
VERSION:2.0
PRODID:-//TYPO3/NONSGML News system (news)//EN
CALSCALE:GREGORIAN
METHOD:PUBLISH
BEGIN:VEVENT
UID:news-109759@gemeinde-poggersdorf.at

DTSTAMP:20260420T141608Z



DTSTART;TZID=Europe/Vienna:20261120T000000
DTEND;TZID=Europe/Vienna:20261120T000000

SUMMARY:Theateraufführung POTHEA
DESCRIPTION:20.11. - 22.11.

LOCATION:Hambruschsaal Grafenstein


END:VEVENT
END:VCALENDAR
