BEGIN:VCALENDAR
VERSION:2.0
PRODID:-//TYPO3/NONSGML News system (news)//EN
CALSCALE:GREGORIAN
METHOD:PUBLISH
BEGIN:VEVENT
UID:news-109731@gemeinde-poggersdorf.at

DTSTAMP:20260420T101101Z



DTSTART;TZID=Europe/Vienna:20260816T000000
DTEND;TZID=Europe/Vienna:20260816T000000

SUMMARY:1. Carinthian Open - Doublette
DESCRIPTION:Pétanque Poggersdorf

LOCATION:Sportzentrum Poggersdorf


END:VEVENT
END:VCALENDAR
